BEGIN:VCALENDAR
VERSION:2.0
PRODID:-//Utah Turkish American Association - ECPv6.15.17//NONSGML v1.0//EN
CALSCALE:GREGORIAN
METHOD:PUBLISH
X-WR-CALNAME:Utah Turkish American Association
X-ORIGINAL-URL:https://utahturkish.org
X-WR-CALDESC:Events for Utah Turkish American Association
REFRESH-INTERVAL;VALUE=DURATION:PT1H
X-Robots-Tag:noindex
X-PUBLISHED-TTL:PT1H
BEGIN:VTIMEZONE
TZID:UTC
BEGIN:STANDARD
TZOFFSETFROM:+0000
TZOFFSETTO:+0000
TZNAME:UTC
DTSTART:20180101T000000
END:STANDARD
END:VTIMEZONE
BEGIN:VEVENT
DTSTART;VALUE=DATE:20201010
DTEND;VALUE=DATE:20201011
DTSTAMP:20260419T204322
CREATED:20220925T085659Z
LAST-MODIFIED:20220925T085659Z
UID:1351-1602288000-1602374399@utahturkish.org
SUMMARY:TreeUtah - Westpointe Park Tree Planting
DESCRIPTION:UTAA Members joined Westpointe Park for a tree planting with Ivory Homes and Salt Lake City to commemorate Ivory Homes 10\,000th tree planted toward their 30\,000 tree initiative. \nGaleri Resimleri\nTreeUtah – Westpointe Park Tree Planting
URL:https://utahturkish.org/event/treeutah-westpointe-park-tree-planting/
LOCATION:UT
CATEGORIES:Event
ATTACH;FMTTYPE=image/jpeg:https://utahturkish.org/wp-content/uploads/2022/09/IMG-20201011-WA0018.jpg
END:VEVENT
BEGIN:VEVENT
DTSTART;VALUE=DATE:20200222
DTEND;VALUE=DATE:20200223
DTSTAMP:20260419T204322
CREATED:20220925T085423Z
LAST-MODIFIED:20220925T085423Z
UID:1349-1582329600-1582415999@utahturkish.org
SUMMARY:Turkish Movie Night - Bana Masal Anlatma / Telling Tales
DESCRIPTION:The story of a minibus driver and a fairytale princess nestling under the wing of timeless friendship in an ordinary neighborhood. \nGaleri Resimleri \nTurkish Movie Night – Bana Masal Anlatma / Telling Tales – Feb 22\, 2020
URL:https://utahturkish.org/event/turkish-movie-night-bana-masal-anlatma-telling-tales/
LOCATION:UT
CATEGORIES:Movie Event
ATTACH;FMTTYPE=image/png:https://utahturkish.org/wp-content/uploads/2022/09/bana-masal-anlatma.png
END:VEVENT
BEGIN:VEVENT
DTSTART;VALUE=DATE:20191220
DTEND;VALUE=DATE:20191221
DTSTAMP:20260419T204322
CREATED:20220925T085247Z
LAST-MODIFIED:20220925T085247Z
UID:1347-1576800000-1576886399@utahturkish.org
SUMMARY:UTAA New Years Party 2020
DESCRIPTION:Galeri Resimleri \nUTAA New Years Party – 2019-12-20
URL:https://utahturkish.org/event/utaa-new-years-party-2020/
LOCATION:UT
CATEGORIES:Party
ATTACH;FMTTYPE=image/jpeg:https://utahturkish.org/wp-content/uploads/2022/09/IMG-20201011-WA0064.jpg
END:VEVENT
BEGIN:VEVENT
DTSTART;VALUE=DATE:20190714
DTEND;VALUE=DATE:20190715
DTSTAMP:20260419T204322
CREATED:20220925T084614Z
LAST-MODIFIED:20220925T084614Z
UID:1341-1563062400-1563148799@utahturkish.org
SUMMARY:UTAA Picnic Day 2019
DESCRIPTION:  \nGaleri Resimleri\nUTAA Picnic Day 2019-07-14
URL:https://utahturkish.org/event/utaa-picnic-day-2019/
LOCATION:UT
CATEGORIES:Picnic
ATTACH;FMTTYPE=image/jpeg:https://utahturkish.org/wp-content/uploads/2022/09/WhatsApp-Image-2021-08-29-at-21.07.35-2.jpeg
END:VEVENT
END:VCALENDAR