BEGIN:VCALENDAR
VERSION:2.0
PRODID:-//Utah Turkish American Association - ECPv6.15.17//NONSGML v1.0//EN
CALSCALE:GREGORIAN
METHOD:PUBLISH
X-WR-CALNAME:Utah Turkish American Association
X-ORIGINAL-URL:https://utahturkish.org
X-WR-CALDESC:Events for Utah Turkish American Association
REFRESH-INTERVAL;VALUE=DURATION:PT1H
X-Robots-Tag:noindex
X-PUBLISHED-TTL:PT1H
BEGIN:VTIMEZONE
TZID:America/Denver
BEGIN:DAYLIGHT
TZOFFSETFROM:-0700
TZOFFSETTO:-0600
TZNAME:MDT
DTSTART:20240310T090000
END:DAYLIGHT
BEGIN:STANDARD
TZOFFSETFROM:-0600
TZOFFSETTO:-0700
TZNAME:MST
DTSTART:20241103T080000
END:STANDARD
BEGIN:DAYLIGHT
TZOFFSETFROM:-0700
TZOFFSETTO:-0600
TZNAME:MDT
DTSTART:20250309T090000
END:DAYLIGHT
BEGIN:STANDARD
TZOFFSETFROM:-0600
TZOFFSETTO:-0700
TZNAME:MST
DTSTART:20251102T080000
END:STANDARD
BEGIN:DAYLIGHT
TZOFFSETFROM:-0700
TZOFFSETTO:-0600
TZNAME:MDT
DTSTART:20260308T090000
END:DAYLIGHT
BEGIN:STANDARD
TZOFFSETFROM:-0600
TZOFFSETTO:-0700
TZNAME:MST
DTSTART:20261101T080000
END:STANDARD
END:VTIMEZONE
BEGIN:VEVENT
DTSTART;TZID=America/Denver:20250607T130000
DTEND;TZID=America/Denver:20250607T170000
DTSTAMP:20260421T131419
CREATED:20250606T185527Z
LAST-MODIFIED:20250606T185527Z
UID:3974-1749301200-1749315600@utahturkish.org
SUMMARY:Potluck Day / Kurban Bayrami Kutlamasi - 2025
DESCRIPTION:hepinizi pikniğe ve kurban bayrami kutlmasina bekliyoruz. Gelirken paylaşmak için bir yiyecek ve piknik sandalyelerinizi getirin.çaylar bizden. \n  \nLocation : https://maps.app.goo.gl/12YPfUpCHb6XbP7T8?g_st=aw \n  \nGaleri icin tiklayiniz \nhttps://utahturkish.org/v3/gallery/potluck-day-kurban-bayrami-kutlamasi-resim-galerisi-2025/
URL:https://utahturkish.org/event/potluck-day-kurban-bayrami-kutlamasi-2025/
ATTACH;FMTTYPE=image/webp:https://utahturkish.org/wp-content/uploads/2025/06/potlok2025.webp
END:VEVENT
END:VCALENDAR